BEGIN:VCALENDAR
VERSION:2.0
PRODID:-//Contratero//ES
CALSCALE:GREGORIAN
METHOD:PUBLISH
BEGIN:VEVENT
UID:MEPRO 2020/12726@contratero.es
DTSTAMP:20260425T005247Z
DTSTART:20201214T235959
DTEND:20201215T005959
SUMMARY:Cierre: Encargo de gestión a la Fundación BIT para llevar 
DESCRIPTION:Encargo de gestión a la Fundación BIT para llevar a cabo el servicio de programación y mantenimiento de los aplicativos basados en ORACLE y J2EE de la Consejería de Educación y Turismo para los años 2...\\n\\nOrganismo: Consejería de Educación\, Universidad e Investigación\\n\\nVer en Contratero: https://contratero.es/contracts/MEPRO 2020/12726
URL:https://contratero.es/contracts/MEPRO 2020/12726
STATUS:CONFIRMED
BEGIN:VALARM
TRIGGER:-P1D
ACTION:DISPLAY
DESCRIPTION:Recordatorio: Encargo de gestión a la Fundac
END:VALARM
END:VEVENT
END:VCALENDAR